BEGIN:VCALENDAR
VERSION:2.0
PRODID:-//Projekt Mehr Liebe - ECPv6.15.20//NONSGML v1.0//EN
CALSCALE:GREGORIAN
METHOD:PUBLISH
X-WR-CALNAME:Projekt Mehr Liebe
X-ORIGINAL-URL:https://mehrlie.be
X-WR-CALDESC:Veranstaltungen für Projekt Mehr Liebe
REFRESH-INTERVAL;VALUE=DURATION:PT1H
X-Robots-Tag:noindex
X-PUBLISHED-TTL:PT1H
BEGIN:VTIMEZONE
TZID:Europe/Berlin
BEGIN:DAYLIGHT
TZOFFSETFROM:+0100
TZOFFSETTO:+0200
TZNAME:CEST
DTSTART:20240331T010000
END:DAYLIGHT
BEGIN:STANDARD
TZOFFSETFROM:+0200
TZOFFSETTO:+0100
TZNAME:CET
DTSTART:20241027T010000
END:STANDARD
BEGIN:DAYLIGHT
TZOFFSETFROM:+0100
TZOFFSETTO:+0200
TZNAME:CEST
DTSTART:20250330T010000
END:DAYLIGHT
BEGIN:STANDARD
TZOFFSETFROM:+0200
TZOFFSETTO:+0100
TZNAME:CET
DTSTART:20251026T010000
END:STANDARD
BEGIN:DAYLIGHT
TZOFFSETFROM:+0100
TZOFFSETTO:+0200
TZNAME:CEST
DTSTART:20260329T010000
END:DAYLIGHT
BEGIN:STANDARD
TZOFFSETFROM:+0200
TZOFFSETTO:+0100
TZNAME:CET
DTSTART:20261025T010000
END:STANDARD
END:VTIMEZONE
BEGIN:VEVENT
DTSTART;TZID=Europe/Berlin:20251102T090000
DTEND;TZID=Europe/Berlin:20251102T170000
DTSTAMP:20260423T120745
CREATED:20251023T103931Z
LAST-MODIFIED:20251023T105220Z
UID:1368-1762074000-1762102800@mehrlie.be
SUMMARY:Wildnisküchenkurs
DESCRIPTION:Nahrung zubereiten in und mit der Natur\nin Bornheim Merten\nmit Jenni Klein \nErlebe die Faszination ursprünglicher Küche!\nIn diesem Kurs tauchen wir ein\, in die Möglichkeiten\, die uns die Natur bietet. Was wächst gerade\, in der Natur oder auch auf dem Feld? Wir erschließen uns die Kunst des Kochens ohne Strom nur mit Feuer\, Glut\, Metall\, Stein und Holz. Gemeinsam sammeln wir essbare Wildpflanzen\, bereiten frische Zutaten vor und zaubern daraus köstliche pflanzliche Mahlzeiten über dem offenen Feuer. \nDabei lernst du: \n\nEinige Wildpflanzen sicher zu erkennen und zu verwenden\nverschiedene Garmethoden über Feuer und in der Glut\nkreative Rezepte aus einfachen\, regionalen und saisonalen Zutaten\nnachhaltiges und respektvolles Verhalten in der Natur\n\nBring bitte mit: \n\nWetterfeste Kleidung\nTrinkflasche\, Teller & Besteck\nNeugier\, Abenteuerlust und Appetit\n\nKosten pro Person: \nTeilnahmebeitrag:      70€ \nVerpflegung/Material: 25€ \nLass dich eintragen auf der Warteliste:\njenni@mehrlie.be\n 
URL:https://mehrlie.be/event/wildniskuechenkurs/
LOCATION:Bornheim Merten
CATEGORIES:Präsenz
ATTACH;FMTTYPE=application/pdf:https://mehrlie.be/wp-content/uploads/2025/10/Wildniskueche-homepage.pdf
END:VEVENT
END:VCALENDAR